BEGIN:VCALENDAR
VERSION:2.0
PRODID:-//Jugendzentrum klex Greifswald - ECPv6.10.2//NONSGML v1.0//EN
CALSCALE:GREGORIAN
METHOD:PUBLISH
X-ORIGINAL-URL:https://das-klex.de
X-WR-CALDESC:Veranstaltungen für Jugendzentrum klex Greifswald
REFRESH-INTERVAL;VALUE=DURATION:PT1H
X-Robots-Tag:noindex
X-PUBLISHED-TTL:PT1H
BEGIN:VTIMEZONE
TZID:UTC
BEGIN:STANDARD
TZOFFSETFROM:+0000
TZOFFSETTO:+0000
TZNAME:UTC
DTSTART:20250101T000000
END:STANDARD
END:VTIMEZONE
BEGIN:VEVENT
DTSTART;TZID=UTC:20260223T080000
DTEND;TZID=UTC:20260419T170000
DTSTAMP:20260425T184351
CREATED:20260223T084753Z
LAST-MODIFIED:20260223T084753Z
UID:2666-1771833600-1776618000@das-klex.de
SUMMARY:17.04.2026 MODERN GUILT + MASTERPIECE + NO FELLAS
DESCRIPTION:Jugendinitiative ProTon e.V. & BMC Booking präsentieren: \nMODERN GUILT – straight edge hardcore | Gothenburg\npassionately channeling the raw energy of 80s hardcore. Offering piece of mind for fans of hardcore and punk. current & past members of SUBJECT TO CHANGE\, DIVISION OF LAURA LEE\, ANCHOR\, PABLO MATISSE\, OUT OF VOGUE\, OBSTRUKTION\, DISAVOW\, SHARP TONGUES…\nhttps://www.instagram.com/modernguilthc/\nhttps://modernguilthc.bandcamp.com/ \nMASTERPIECE – straight edge hardcore | Stockholm\nstraight edge band in the hyped subgenre of democore. With predecessors like Raw Deal (later known as Killing Time) and Breakdown\, their sound draws heavily from the raw and unpolished New York hardcore of the late ‚80s\, which is often regarded as hardcore in its purest form. Members of XIAO\, NO OMEGA.\nhttps://masterpiecestraightedge.bandcamp.com \nNO FELLAS – death metal-powerviolence-hardcore | Rostock\nA wave of relentless d-beat paired with death metal riffs form a stampede of powerviolence and punk\, maelstorming into hard hitting beatdown-executions.\nhttps://nofellas.bandcamp.com/\nhttps://www.facebook.com/nofellas\nhttps://www.instagram.com/nofs__ \nNo Place for Homophobia\, Fascism\, Sexism\, Racism\, Hate! \ndoors: 20:00 Uhr\nstart: 21:00 Uhr\ndamage: 10€-15€
URL:https://das-klex.de/event/17-04-2026-modern-guilt-masterpiece-no-fellas/
ATTACH;FMTTYPE=image/png:https://das-klex.de/wp-content/uploads/2026/02/Screenshot-2026-02-19-at-14-39-04-Instagram.png
END:VEVENT
BEGIN:VEVENT
DTSTART;TZID=UTC:20260219T080000
DTEND;TZID=UTC:20260222T170000
DTSTAMP:20260425T184351
CREATED:20260219T134613Z
LAST-MODIFIED:20260219T134613Z
UID:2658-1771488000-1771779600@das-klex.de
SUMMARY:TEDDIES KNEIPE + MACKERMASSAKER + LEWIA
DESCRIPTION:21.02.2026 \nEnde Februar ist es ja fast schon Brauch\, dass TEDDIES KNEIPE aus Bremen zu Besuch kommen. Nun bereits das dritte Jahr in Folge wird uns das Trio mit ihrem einzigartigen Charme und Humor verzaubern und feinsten Kneipen-Punk auf unsere Bühne bringen. Wir freuen uns mega auf das Wiedersehen! \n@teddieskneipe\nteddieskneipe.bandcamp.com \nEbenfalls auf der Bühne an dem Abend werden MACKERMASSAKER sein. Der Name verspricht nicht zu viel und so weiß das Duo aus Potsdam mit einer rohen Mischung aus Punk und Grunge mit vorwiegend feministischen\, sozialkritischen Texten zu überzeugen. \n@mackermassaker_band\nmackermassaker.bandcamp.com \nLEWIA wird das LineUp des Abends abrunden. Als Solokünstlerin performt Sie punktypische Themen und Texte am Klavier. In die Tasten hauen gegen Nazis\, Kapital und Sexismus! \n@lewia.musik\nlewia.bandcamp.com \nZwischen den Konzerten wird es eine spitzenmäßige Tombola vom @infoladen_analog\, sowie eine Sektbar geben. Politische Bildung wird oft umsonst angeboten ist aber im seltensten Fall tatsächlich kostenlos. Daher wollen wir ein paar Spenden sammeln\, damit diese wichtige Arbeit auch weiterhin gesichert ist. Steckt euch also gerne eins\, zwei Scheinchen mehr ins Portemonnaie! \nDoors: 20:00 Uhr\nStart: ca 21:00 Uhr\nSpendenempfehlung: 10€
URL:https://das-klex.de/event/teddies-kneipe-mackermassaker-lewia/
ATTACH;FMTTYPE=image/png:https://das-klex.de/wp-content/uploads/2026/02/Screenshot-2026-02-19-at-14-32-55-Instagram.png
END:VEVENT
BEGIN:VEVENT
DTSTART;TZID=UTC:20260214T203000
DTEND;TZID=UTC:20260214T233000
DTSTAMP:20260425T184351
CREATED:20251223T193248Z
LAST-MODIFIED:20251223T193345Z
UID:2619-1771101000-1771111800@das-klex.de
SUMMARY:14.02.2026 BLACK METAL VALENTINE VOL. II
DESCRIPTION:Wir gehen in die zweite Runde! Nachdem wir uns 2025 bereits am Tag der Liebe versammelt haben um dem Black Metal zu frönen\, wollen wir das ganze 2026 noch toppen! Wir haben nicht nur wieder 3 klasse Kapellen geordert\, sondern sorgen vorher noch für Aufklärung! Wir freuen uns dieses mal CHRISTINA WENIG mit ihrem Vortrag „Über NSBM: Einblicke ins rechtsextreme Metal-Milieu“ bei uns begrüßen zu dürfen.\nCHRISTINA ist freie Musikjournalistin und hat bereits Artikel für die VISION oder METAL HAMMER geschrieben. Seit 2022 veröffentlicht das DIFFUS MAGAZIN ihre Kolumne „HARD IN HERE“. In ihrer Arbeit befasst CHRISTINA sich oft mit der Schnittstelle Feminismus / Antifaschismus und Musik\, einen besonderen Schwerpunkt setzt sie dabei bei linkspolitischen Black Metal.\nDer Vortrag ist kostenlos und startet 19 Uhr im Seminarraum im Klex 1.OG und ist leider nur über Treppen zugänglich.\n@_aimless_x_arrow_ \nAb 21:00 öffnen dann die Pforten zum Konzertsaal\, in dem euch 3 brandheiße Bands ordentlich anheizen. \nFROST\, PISSE & ELEND: waren letztes Jahr schon dabei\, haben sich inzwischen etwas neu aufgestellt und sind immernoch mächtig angepisst!\n@frost_pisse_elend \nNO SUN RISES: atmosphärischer Black Metal aus Göttingen. Bedrängend\, verzweifelt und wütend. Bei dem Sound scheint die Sonne nie wieder!\n@nosunrisesofficial \nWINSELMUTTER: Mit Ihrem Mix aus klassischer Black Metal Ästhetik und modern reflektierten Inhalten sagen Winselmutter den faschistischen Auswüchse der Szene den Kampf an!\n@winselmutter.bm \nZum Kostendecken werden wir euch am Einlass um einen Obolus von 10 bis 20 Euro bitten. Jugendliche bis einschließlich 18 Jahren müssen nix zahlen.\nEs kann zu wechselnden Lichtern und dem Einsatz von Nebel kommen. Das Konzert ist über eine Rampe barrierearm erreichbar. Es gibt eine Toilette mit Pissoirs und einer Kabine ohne extra Platz. FLINTA* only WCs sind nur über die Treppe erreichbar.\nDas JUZ Klex ist ein Ort der Begegnung und des (sub)kulturellen Austausch\, wir wollen dass sich hier alle möglichst sicher fühlen und eine schöne Zeit haben. Wir dulden keine Art von Diskriminierung und übergriffigen Verhalten! \nBLACK METAL AGINST FASCISM\nFGHT NSBM
URL:https://das-klex.de/event/14-02-2026-black-metal-valentine-vol-ii/
ATTACH;FMTTYPE=image/png:https://das-klex.de/wp-content/uploads/2025/12/14.2.png
END:VEVENT
BEGIN:VEVENT
DTSTART;TZID=UTC:20260119T080000
DTEND;TZID=UTC:20260308T170000
DTSTAMP:20260425T184351
CREATED:20260219T134910Z
LAST-MODIFIED:20260223T085819Z
UID:2663-1768809600-1772989200@das-klex.de
SUMMARY:06.03.2026 Trash Party
DESCRIPTION:Am 06.03. verabschieden wir uns vom kollektiven Weltschmerz und öffnen unserem inneren Tanzbären die Türen. Irgendwo zwischen Dorfbumms\, Großstadtarroganz und Politpöbelei zaubern euch Die Harten Freunde mit Support von JEM einen musikalischen Festtagsschmaus auf die Bühne\, der euch die Puschen von den Zehen reißt. Ganz viel Leidenschaft\, ganz echt aus MV und ganz bestimmt auch ein bisschen Trash. Mit atzigen Reimen und frechen Beats füllen die drei Lausbuben unsere Edorphinkanister bis zum Rand\, um gut gestärkt in den Verschleiß der Welt zu hüpfen. Im Anschluss brettert Discogörl mit uns von den 90ern bis zu den frühen 2000ern und lässt dabei keinen Banger aus. Freut euch auf einen Abend von Atzenpropaganda bis Avril Lavigne im klex.\nAlle unter 19 Jahre kommen für umsonst rein! \nDoors: 20:00 Uhr\nEintritt: 4-8 €
URL:https://das-klex.de/event/06-03-2026-trash-party/
ATTACH;FMTTYPE=image/png:https://das-klex.de/wp-content/uploads/2026/02/Screenshot-2026-02-19-at-14-36-06-Instagram.png
END:VEVENT
BEGIN:VEVENT
DTSTART;TZID=UTC:20260113T080000
DTEND;TZID=UTC:20260412T170000
DTSTAMP:20260425T184351
CREATED:20260113T073827Z
LAST-MODIFIED:20260113T073827Z
UID:2647-1768291200-1776013200@das-klex.de
SUMMARY:11.04.2026 THE DUSKFALL (Swe)\, THIS ENDING (Swe)\, EVILON (Swe/N)\, BUTCHER`S CURSE (Swe)
DESCRIPTION:Jugendinitiative ProTon e.V.\, BMC Booking & Fluff Booking präsentieren:\n\nTHE DUSKFALL (SWE; Apostasy Records\, Massacre Records\, Nuclear Blast)\nMelodic Death Metal in Bestform! Seit ihrer Gründung in Umeå gehören The Duskfall um Mastermind Mikael Sandorf (Gates of Isthar\, Helltrain) zu den schwedischen Genre-Veteranen. Nach Touren mit In Flames\, Soilwork & Dark Tranquillity zeigen sie\, dass kompromissloser Death Metal auch 2026 nichts von seiner Energie verloren hat. Rasende Riffs\, eingängige Melodien – typisch Schweden\, typisch Duskfall!\nhttps://www.facebook.com/TheDuskfallSweden\nhttps://www.instagram.com/theduskfall_official/\nhttps://theduskfall.bandcamp.com/…/where-the-tree…\n\nTHIS ENDING (SWE; Apostasy Records)\nMelodic-Death-Metal-Band\, die 2005 aus den Überresten von A Canorous Quintet hervorging und bislang fünf Alben veröffentlicht hat.\nMårten Hansen – Vocals (A Canorous Quintet\, ex- Sins of Omission\, ex-October Tide\nLinus Nirbrant – Guitar – (A Canorous Quintet\, Darkened\, ex-Guidance of Sin)\nAndreas Morén – Guitar (Bleeding Utopia)\nPeter Nagy – drums (A Canorous Quintet\, Eternal Oath\, Mörk Gryning)\nFredrik Ridderström – bass (Bleeding Utopia)\nhttps://www.facebook.com/ThisEnding\nhttp://thisendingswe.bandcamp.com\nhttps://www.instagram.com/thisendingofficial\n\nEVILON (SWE/ Norway; Fetzner Death Records)\nmelodic Folk/ Death Metal. Wenn`s um wenn um Lore\, Mythologie\, Kreaturen und Sagen geht\, seid ihr hier richtig.\nhttps://www.instagram.com/evilon_official/\nhttps://www.facebook.com/Evilon/\nhttps://evilon.bandcamp.com/\n\nBUTCHER’S CURSE (SWE; independent)\nDie Abrissbirne des Abends! Brisante Mischung aus Thrash\, Death und einer ordentlichen Portion Dreck. Laut\, roh\, authentisch – hier wird kein Ton verschwendet\, nur Energie freigesetzt.\nhttps://butcherscurse.bandcamp.com\nhttps://www.instagram.com/butchers.curse/\nhttps://www.facebook.com/butchers.curse\n\n Doors: 19:30 Uhr  Showstart: 20:30 Uhr\n VVK: 15€/ AK: 18€\nTickets ab sofort über  www.pretix.eu/juzklex erhältlich!!!\n\nNo Place for Homophobia\, Fascism\, Sexism\, Racism\, Hate!
URL:https://das-klex.de/event/11-04-2026-the-duskfall-swe-this-ending-swe-evilon-swe-n-butchers-curse-swe/
ATTACH;FMTTYPE=image/jpeg:https://das-klex.de/wp-content/uploads/2026/01/Flyer-260411-Insta.jpg
END:VEVENT
BEGIN:VEVENT
DTSTART;TZID=UTC:20260113T080000
DTEND;TZID=UTC:20260314T170000
DTSTAMP:20260425T184351
CREATED:20260113T073640Z
LAST-MODIFIED:20260113T073640Z
UID:2644-1768291200-1773507600@das-klex.de
SUMMARY:15.03.2026 BERHOLD CITY (USA) + MINDFALL + BRICKDUST
DESCRIPTION:BMC Booking\, Happy Noise Collective\, Stronger Bookings & Jugendinitiative ProTon e.V. presents:\n\nBERTHOLD CITY (USA; WAR Records)\n…is a dynamic straight edge hardcore band from Los Angeles\, founded in 2017 by Andrew Kline (formerly of STRIFE). They are known for their uncompromising\, high-energy sound that recalls the glory days of youth crew hardcore and is driven by seasoned musicians from the scene. Blending traditional hardcore elements with driving riffs and lyrics rooted in conviction and determination\, the band has built a strong reputation through their intense live shows. current & past members of STRIFE\, WORLD BE FREE\, ALLEGIANCE\, DEATH BY STEREO\, NATIONS AFIRE)\nhttps://www.facebook.com/bertholdcity\nhttps://www.instagram.com/berthold_city\nhttps://bertholdcityhc.bandcamp.com\n\nMINDFALL – (Potsdam)\nThe band plays energetic hardcore enriched with melodic elements. Their sound is defined by a blend of musical intensity and emotional depth.\nhttps://www.instagram.com/mindfall.hc/\nhttps://www.facebook.com/mindfallhc\nhttps://mindfallhc.bandcamp.com\n\nBRICKDUST – (Rostock)\nbaltic sea hardcore at it`s best! The band is deeply rooted in the Rostock hardcore scene (ex-GOOD OLD BOYZ\, ex-HANG EM HIGH). Their musical style is described as powerful hardcore\, often distinguished by intense grooves and a modern production.\nhttps://www.facebook.com/profile.php?id=100063489493797\nhttps://www.instagram.com/brickdustofficial/\n\nNo Place for Homophobia\, Fascism\, Sexism\, Racism\, Hate!\n\ndoors: 18:00 Uhr\nstart: 19:00 Uhr\ndamage: presale: 15€/ sale: 18€\nwww.pretix.eu/juzklex
URL:https://das-klex.de/event/15-03-2026-berhold-city-usa-mindfall-brickdust/
ATTACH;FMTTYPE=image/jpeg:https://das-klex.de/wp-content/uploads/2026/01/150326-PLakat-insta.jpg
END:VEVENT
BEGIN:VEVENT
DTSTART;TZID=UTC:20260113T080000
DTEND;TZID=UTC:20260201T170000
DTSTAMP:20260425T184351
CREATED:20251213T123326Z
LAST-MODIFIED:20260113T073436Z
UID:2640-1768291200-1769965200@das-klex.de
SUMMARY:31.01.2026 SCHÆDEN + SCHROTZ
DESCRIPTION:Stromgitarren aufreißen und die Haarspitzen ordentlich auf Abstand zur Kopfhaut lacken\, denn wir beleben den guten alten Hardcore-Punk wieder! Am 31.01. gibt’s die erste Nieten- und Pogosause bei uns dieses Jahr und diese hartkernigen Kapellen zeigen euch wie amtlich aufs Trommelfell gedroschen wird! \nSCHÆDEN aus Berlin mixen Hardcore mit Postpunk- und Emoriffs und greifen lyrisch oft tief in die Metapherkiste. Dabei wird selten der politische Boden verlassen. Wenn alles kacke ist\, gibt’s schließlich auch genug zu meckern!\n@schaeden\nschaeden.bandcamp.com \nSCHROTZ aus Rostock meckern schon lange über soziale Kälte\, Spießbürger und Kapitalisten! Wütend wird hier astreiner Hardcorepunk serviert als wäre es immernoch 2014!\nschrotz.bandcamp.com \nLos geht’s zwischen 21 und 22 Uhr und wir werden am Einlass um eine Spende von 5 bis 10 Euro bitten. Bist du 18 oder jünger kannst du auch kostenlos das Konzert besuchen.
URL:https://das-klex.de/event/31-01-2026-schaeden-schrotz/
ATTACH;FMTTYPE=image/jpeg:https://das-klex.de/wp-content/uploads/2026/01/31.01.2026insta.jpg
END:VEVENT
BEGIN:VEVENT
DTSTART;TZID=UTC:20260110T200000
DTEND;TZID=UTC:20260110T233000
DTSTAMP:20260425T184351
CREATED:20251223T193000Z
LAST-MODIFIED:20251223T193423Z
UID:2616-1768075200-1768087800@das-klex.de
SUMMARY:10.01.2026 Birthday Bash
DESCRIPTION:@drillstarautopsyofficial – modern groove metal | Eisleben\nmodern death/groove metal straight out of Eisleben: heavy riffs\, crushing breakdowns\, and a sound that hits forward without compromise. The band delivers raw energy\, massive groove\, and a live power that inevitably pulls every audience in.\nFFO: Fear Factory\, Devildriver\, Sepultura\nhttps://www.facebook.com/DrillStarAutopsy\nhttps://drillstarautopsy.bandcamp.com \n@harmonydiesdeathmetal – brutal death metal | Berlin\none of germany`s longest active classic death metal acts!\nSomewhere between old Broken Hope\, Suffocation and Cannibal Corpse\nhttps://www.facebook.com/harmonydies\nhttp://www.harmony-dies.de/ \n@entrailsmassacre – intense grindcore/ powerviolence | Rostock\nmore than 3 decades of brutal grindcore\, always in a skilful balance of bulkiness & total apocalypse. Noisear meets the professional edge of Euro style grind.\nFFO: MAGRUDERGRIND\, NOISEAR\, SUFFERING MIND etc.\nhttps://entrailsmassacre.bandcamp.com\nhttps://www.facebook.com/entrailsmassacre \nNo Place for Homophobia\, Fascism\, Sexism\, Racism\, Hate! \ndoors: 20:00 Uhr\nstart: 21:00 Uhr\ndamage: presale:12 € /sale: 15€\nwww.pretix.eu/juzklex
URL:https://das-klex.de/event/birthday-bash/
ATTACH;FMTTYPE=image/png:https://das-klex.de/wp-content/uploads/2025/12/10.1.png
END:VEVENT
BEGIN:VEVENT
DTSTART;TZID=UTC:20251213T080000
DTEND;TZID=UTC:20260125T170000
DTSTAMP:20260425T184351
CREATED:20251213T072933Z
LAST-MODIFIED:20260113T073110Z
UID:2635-1765612800-1769360400@das-klex.de
SUMMARY:24.01.2026 SHIFTING WATERS\, BURNING BACKYARD\, THE BROKEN RATS COLLECTIVE
DESCRIPTION:Das Fahrwasser wird unbeständig\, der Hinterhof brennt und die Ratten weinen der Welt hinterher. Am 24.01. bekommt euer Weltschmerz nen Gelben und darf bei uns im Wohnzimmer seinen Frust raustanzen. Auch wenn die Metaphern aus politischer Sicht nicht realer sein könnten\, konsolidiert sich wie von selbst eine musikalische Ohrenkur. Die globalpolitische Rocky Horror Picture Show hat an diesem Tag für ein paar Stunden Sendepause. Dank dieser Disastrous Rockshow\, fast Garantiert\, nur so lange der Vorrat reicht. \nDas musikalische Kneipbad gibt’s in diesen Varainten: \nSHIFTING WATERS – alternative rock HGW\n@michaeltheelmusic\nBURNING BACKYARD – rock HGW\n@burningbackyard\nTHE BROKEN RATS COLLECTIVE – indie alternative HGW\nhttps://thebrokenratscollective.bandcamp.com/\n@thebrokenratscollective \nEinlass gibts ab 20 Uhr\nUVP: 10€\nBist du 18 oder jünger kannst du auch kostenlos das Konzert besuchen. Mehr infos dazu im Post bei  @juz_klex_shows\nDas klex ist ein Ort der (sub)kulturellen Begegnung in dem sich möglichst alle wohl fühlen sollen. Dafür sind wir auch alle mitverantwortlich\, daher dulden wir kein übergriffiges oder diskriminierendes Verhalten jeglicher Art!\nFür die Stufe am Einlass gibt es eine Rampe (bis 300kg)\, allerdings haben wir keine behindertengerechte Toilette. Im Erdgeschoss befindet sich eine Toilette mit 4 Pissoirs und einer Kabine ohne extra Platz.\nBeim Konzert kann es zu schnellwechselnden Lichtern und dem Einsatz von Nebel kommen. Falls du es nicht ganz so laut magst\, pack dir lieber noch einen Gehörschutz ein.
URL:https://das-klex.de/event/24-01-2026-shifting-waters-burning-backyard-the-broken-rats-collective/
ATTACH;FMTTYPE=image/png:https://das-klex.de/wp-content/uploads/2026/01/01-24insta.png
END:VEVENT
BEGIN:VEVENT
DTSTART;TZID=UTC:20251110T090000
DTEND;TZID=UTC:20251123T170000
DTSTAMP:20260425T184351
CREATED:20251110T092847Z
LAST-MODIFIED:20251110T103026Z
UID:2580-1762765200-1763917200@das-klex.de
SUMMARY:21.11.2025 Flinta* just wanna have fun!
DESCRIPTION:Flinta* just wanna have fun! Deshalb gibt es diesen Monat wieder eine Flinta* only Party im JUZ klex mit Trance\, House \, eine gute Portion 80er/90er/2000er und Soli Sektchen. Alle Einnahmen der Veranstaltung gehen an das Greifswalder Frauenhaus. \nEinlass: 20 Uhr
URL:https://das-klex.de/event/21-11-2025-flinta-just-wanna-have-fun/
ATTACH;FMTTYPE=image/png:https://das-klex.de/wp-content/uploads/2025/11/flinta.png
END:VEVENT
BEGIN:VEVENT
DTSTART;TZID=UTC:20251110T083000
DTEND;TZID=UTC:20251213T170000
DTSTAMP:20260425T184351
CREATED:20251110T101034Z
LAST-MODIFIED:20251110T102454Z
UID:2571-1762763400-1765645200@das-klex.de
SUMMARY:12.12.2025 ESCARNIUM + EREBOROS + BRUTALLY DECEASED
DESCRIPTION:BMC Booking & Jungendinitiative ProTon e.V. präsentieren:\nESCARNIUM – death metal (Brasil; Everlasting Spew Records)kehrt mit ihrem vierten Album „Inexorable Entropy“ zurück. Unerbittlicher\, von Blast Beats getriebener\, höllischem Death Metal enthält! 2008 in Salvador\, Brasilien\, gegründet und entwickelte sich zu einer fünfköpfigen Band\, die sich dem rohen\, viszeralen Death Metal verschrieben hat\, der von Angst und nihilistischen Ideen angetrieben wird. Im Laufe der Jahre hat sich die Band zu einem der führenden Namen der brasilianischen Metal-Szene entwickelt. Jetzt tritt Escarnium als Quartett auf und baut seinen Einfluss in der Welt der extremen Musik weiter aus.FFO: Dead Congregation\, Immolation\, Krisiun\, Fossilizationhttps://www.facebook.com/escarniumhttps://escarnium.bandcamp.comhttps://www.instagram.com/escarnium\nEREBOROS – blackened death metal (Brazil; Extreme Sound Records)Death-Metal-Quartett aus Rio de Janeiro/ Brasilien\, dessen treibende Kraft für die Musik\, die Essenz tiefster und ins-tinktivster Gefühle ist. Das erfahrene Quartett hat ein Arsenal von neun nationalen und internationalen Tourneen (2xSüdamerika\, 4xEuropa\, 1xOsteuropa und 1xUSA) gesammelt\, was insgesamt mehr als 400 Shows und Zehntausende von Straßenkilometern in mehr als 50 Ländern ergibt. Stets auf der Suche nach poetischer Tiefe und kritischen Themen wie Philosophie und Okkultismus\, werden die Texte von EREBOROS als Werk-zeug der Erleuchtung und Freiheit eingesetzt.https://www.facebook.com/ereborosofficialhttps://ereboros.bandcamp.comhttps://www.instagram.com/ereborosofficial\nBRUTALLY DECEASED – death metal (Cz; Doomentia Records)benannt nach einem Song der schwedischen Death Metal Veteranen GRAVE kommen die Herren mit traditionellem HM2 sound the brutal way um die Ecke! Stellt euch vor\, Vomitory und Desultory hätten ein Baby mit Dismember bekommen und die Bremse losgelassen.brutallydeceased.bandcamp.comhttps://www.facebook.com/brutallydeceasedhttps://www.instagram.com/brutallydeceasedofficial\ndoors: 20:00start: 21:00damage: VVK: 12€/ AK:15€
URL:https://das-klex.de/event/12-12-2025-escarnium-ereboros-brutally-deceased/
ATTACH;FMTTYPE=image/jpeg:https://das-klex.de/wp-content/uploads/2025/11/574937164_1504443971209304_8896656940698033730_n.jpg
END:VEVENT
BEGIN:VEVENT
DTSTART;TZID=UTC:20251110T073000
DTEND;TZID=UTC:20251130T170000
DTSTAMP:20260425T184351
CREATED:20251110T094042Z
LAST-MODIFIED:20251111T092241Z
UID:2575-1762759800-1764522000@das-klex.de
SUMMARY:29.11.2025 WÜT | PLAQUE | KURZ & SCHMERZLOS
DESCRIPTION:Nietenkutten aller Genres vereinigt euch!  Dieses Mal werden eure Trommelfelle von drei Bands verdroschen\, die ihr euch mit Blut und Spucke am besten ganz fett hinter die Löffel schreibt!\n\nWÜT – Das Metalcrustpunktrio aus Berlin ist längst kein Geheimtipp mehr. Rifflastig\, Angepisst\, nach vorne\, da bleiben keine Wünsche offen\n@wutpunx \nPLAQUE – D-Beat\, Crust\, Hardcore\, Punk\, Bremen – eine Kombi die gar nicht schlecht sein kann. Hier kommt der Soundtrack um endlich mal wieder Nieten in deine Weste zu schrauben!\n@plaque_punk \nKURZ & SCHMERZLOS – Zu metalig für Punk\, zu punkig für Metal\, dafür ne ganze Menge Riffs. Das brettigste Brett das auf Greifswalds Dachböden zu finden ist\n@kurz_und_schmerzlos.official \nLos geht’s zwischen 21:00 und 22:00 Uhr und wir werden 10 Euro verlangen.\nAls Jugendinitiative ProTon e.V. gestalten wir einen Raum für subkulturellen Austausch in dem sich alle möglichst sicher fühlen wollen\, dafür sind wir alle gefragt. Wir dulden kein menschenverachtendes und übergriffiges Verhalten. Solltest du dich unwohl fühlen oder grenzüberschreitende Situationen erleben oder beobachten sprich uns am Einlass oder Tresen an und wir werden sofort aktiv.\nEs gibt eine Rollirampe aber kein explizit barrierefreies Klo (Klokabine ohne extra Platz). Es kann zu schnellwechselden Lichtern und dem Einsatz von Nebel kommen. \n 
URL:https://das-klex.de/event/29-11-2025-wuet-plaque-kurz-schmerzlos/
ATTACH;FMTTYPE=image/png:https://das-klex.de/wp-content/uploads/2025/11/Screenshot-2025-11-10-at-11-18-29-Instagram.png
END:VEVENT
BEGIN:VEVENT
DTSTART;TZID=UTC:20251010T200000
DTEND;TZID=UTC:20251011T000000
DTSTAMP:20260425T184351
CREATED:20250926T142530Z
LAST-MODIFIED:20251008T133319Z
UID:2413-1760126400-1760140800@das-klex.de
SUMMARY:10.10.2025 Phantom Corporation / Wojczech / Arroganz
DESCRIPTION:BMC Booking & Jugendinitiative ProTon e.V. präsentieren: \nPhantom Corporation – straight death/ thrash – crust/ d-beat fusion | Bremen (Supreme Chaos Records)\nby scene veterans of Dew Scented\, Weak Aside\, Slaughterday\, Obscenity and more\nhttps://www.facebook.com/phantomcorporation\nhttps://phantomcorporation.bandcamp.com\nhttps://www.instagram.com/phantomcorporation \nWojczech – three decades of baltic sea grindcore blas beat worship | | Rostock (Sensitive Wormrile/ Selfmadegod Records)\nStill straight since 1995 feat. past and current members of Who’s My Saviour\, Entrails Massacre\, Bad Luck Ride on Wheels\, Confusion Master\nhttps://wojczech.bandcamp.com\nhttps://www.facebook.com/wojczech.blastbeat.worship\nhttps://grind.link/wojczech \nArroganz – blackened death doom hybrid | Berlin/ Cottbus (Supreme Chaos Records)\nhttp://arroganz.info/\nhttps://arroganz.bandcamp.com\nhttps://www.facebook.com/arroganzgermany\nhttps://www.instagram.com/arroganz666 \n  \ndoors: 20:00\nstart: 21:00\ndamage: VVK: 15€/ AK:18€
URL:https://das-klex.de/event/phantom-corporation-wojczech-arroganz/
ATTACH;FMTTYPE=image/jpeg:https://das-klex.de/wp-content/uploads/2025/07/505577724_1367588708228165_3952802690880925309_n.jpg
END:VEVENT
BEGIN:VEVENT
DTSTART;VALUE=DATE:20250927
DTEND;VALUE=DATE:20251101
DTSTAMP:20260425T184351
CREATED:20250926T143600Z
LAST-MODIFIED:20251008T133005Z
UID:2518-1758931200-1761955199@das-klex.de
SUMMARY:31.10.2025 Coal And Crayon + Thoughts + Steel Water Ink
DESCRIPTION:Jugendinitiative ProTon e.V. & BMC Booking präsentieren:\nCoal And Crayon – progressive post metal | Rügen/ RostockGroße Gitarrenwände\, wunderschöner Gesang mit düsteren Texten auf beeindruckender Schlagzeugarbeit. Coal & Crayon lassen in ruhigen Passage ihre Gitarren federleicht und düster schweben und brechen ihre Metal-Ausbrüche mit sphärischen\, organischen Melodien auf.https://coalandcrayon.de/https://coalandcrayon.bandcamp.com/https://www.facebook.com/coalandcrayonhttps://www.instagram.com/coalandcrayon_official\nThoughts – instrumental post metal | RostockDas Trio hat den Anspruch jedes Konzert zu einer immersiven Reise durch Sound und Licht werden zu lassen und liefert einen eigenständigen Mix aus Post- und Progressive Metal: Flächen aus dichten und kristallinen Gitarren. Schwerer und komplexer Bass. Atmosphärische und eingängige Synthesizer. Brachialität trifft Fragilität. Polymetrik trifft Groove. Silhouette trifft Stroboskop.https://www.facebook.com/thoughts.metalhttps://www.instagram.com/thoughts_bandhttps://officialthoughts.bandcamp.com\nSteel Water Ink – alternative heavy rock | Stralsund/ Rügeneinzigartiger Rocksound\, der von alternativen Elementen durchdrungen ist. Harte Metal-Riffs treffen auf sanfte\, fast progressive Melodien. Die Einflüsse reichen von Stoner über Postrock bis hin zu Doom\, aber auch von Punk und anderen Genres.https://www.facebook.com/STEELWATERINKhttps://steelwaterink.bandcamp.comhttps://www.instagram.com/steel_water_ink/\ndoors: 20:00start: 21:00damage: 12€\nArtwork by Teilchensturm Art/Designhttps://www.facebook.com/teilchensturm\nNo Place for Homophobia\, Fascism\, Sexism\, Racism\, Hate!
URL:https://das-klex.de/event/31-10-2025-coal-and-crayon-thoughts-steel-water-ink/
ATTACH;FMTTYPE=image/jpeg:https://das-klex.de/wp-content/uploads/2025/09/31.10.jpg
END:VEVENT
BEGIN:VEVENT
DTSTART;VALUE=DATE:20250926
DTEND;VALUE=DATE:20251006
DTSTAMP:20260425T184351
CREATED:20250926T143603Z
LAST-MODIFIED:20250928T182931Z
UID:2530-1758844800-1759708799@das-klex.de
SUMMARY:04.10.2025 GOULAG + TRÜMMERRATTEN + MANGEL
DESCRIPTION: Am 4.10. öffnen wir die Türen wieder und laden ein zum Punk-Rocktoberfest oder so. Die musikalische Untermalung diesmal wird von König Maggus höchstpersönlich empfohlen:\nGOULAG – schön garagiger Punk aus der Hauptstadt\, ehemals Gulag Beach @g0ul4g\nTRÜMMERRATTEN – schrammeliger Punk mit deutschem Gesang aus Hamburg\nMANGEL – D-Beat\, Punk\, Hardcore\, ehrlich\, angepisst und anti aus Berlin @mangel_punk\nLos geht’s irgendwann nach 21:00 Uhr. An der Tür werden wir dich nach nem 10er anschnorren\, hast du mehr zur Verfügung ists auch cool wenn du mehr gibt’s\, hast dus nicht so dicke geht auch etwas weniger. Rechnet mit Nebel und schnell wechselnden Lichtern. Es gibt ne Rollirampe\, aber kein explizit barrierefreies Klo (Klokabine ohne extra Platz).
URL:https://das-klex.de/event/04-10-2025-goulag-truemmerratten-mangel/
ATTACH;FMTTYPE=image/jpeg:https://das-klex.de/wp-content/uploads/2025/09/proton.jpg
END:VEVENT
BEGIN:VEVENT
DTSTART;VALUE=DATE:20250926
DTEND;VALUE=DATE:20251005
DTSTAMP:20260425T184351
CREATED:20250926T143340Z
LAST-MODIFIED:20250928T122609Z
UID:2522-1758844800-1759622399@das-klex.de
SUMMARY:03.10.2025 BOG BOX vs. H.O.R.S.T.
DESCRIPTION:H.O.R.S.T. Kollektiv präsentiert:\nLine up (a-z):H.O.R.S.T.ISO-LATTE (Disco/House)Matterkorn (Groove)https://soundcloud.com/lorenz-lahlo/í (Industrial Techno/ Tribal)https://soundcloud.com/oli63leWel (Drum’n’Bass)https://soundcloud.com/lewelmusic\nBOG BOXMojoMajyx (Bounce)https://soundcloud.com/mojomajyxDJ Bongwasser (Hard Trance)https://soundcloud.com/dj_bongwassernoraa (Braindance)https://soundcloud.com/user-958066065Frau Mü (Dark Disco)https://soundcloud.com/frau_mue\n\nEINLASS ab 22 Uhr
URL:https://das-klex.de/event/03-10-2025-bog-box-vs-h-o-r-s-t/
ATTACH;FMTTYPE=image/jpeg:https://das-klex.de/wp-content/uploads/2025/09/3.10.jpg
END:VEVENT
BEGIN:VEVENT
DTSTART;VALUE=DATE:20250926
DTEND;VALUE=DATE:20251020
DTSTAMP:20260425T184351
CREATED:20250908T143600Z
LAST-MODIFIED:20251008T133229Z
UID:2526-1758844800-1760918399@das-klex.de
SUMMARY:18.10.2025 THRILL + KAMA + SINATRA + KRYCEK
DESCRIPTION:Jugendinitiative ProTon e.V.\, Thrill & BMC Booking präsentieren:\nTHRILL – black mooded harcore-punk | Greifswaldhttps://www.facebook.com/thrill.greifswaldhttps://thrill666.bandcamp.com/https://www.instagram.com/thrill666/\nKAMA – Indiepunk | Berlinhttps://www.instagram.com/kamamusik/https://www.facebook.com/kamabandhttps://kamamusik.bandcamp.com/\nSINATRA – chaos hardcore | Berlinhttps://www.instagram.com/sinatra.band/https://sinatraband2.bandcamp.comhttps://www.facebook.com/sinatramusic\nKRYCEK -screamo/ emoviolence | Berlinhttps://www.instagram.com/we_are_krycek/https://kkrryycceekk.bandcamp.com\nNo Place for Homophobia\, Fascism\, Sexism\, Racism\, Hate!\ndoors: 20:00 Uhrstart: 21:00 Uhrdamage: 12€ VVK/ AK 15€www.pretix.eu/juzklex
URL:https://das-klex.de/event/18-10-2025-thrill-kama-sinatra-krycek/
ATTACH;FMTTYPE=image/jpeg:https://das-klex.de/wp-content/uploads/2025/09/18.10.jpg
END:VEVENT
END:VCALENDAR